BEGIN:VCALENDAR
VERSION:2.0
PRODID:-//Last Minute PCB - ECPv6.15.20//NONSGML v1.0//EN
CALSCALE:GREGORIAN
METHOD:PUBLISH
X-ORIGINAL-URL:https://lastminutepcb.com
X-WR-CALDESC:Events for Last Minute PCB
REFRESH-INTERVAL;VALUE=DURATION:PT1H
X-Robots-Tag:noindex
X-PUBLISHED-TTL:PT1H
BEGIN:VTIMEZONE
TZID:UTC
BEGIN:STANDARD
TZOFFSETFROM:+0000
TZOFFSETTO:+0000
TZNAME:UTC
DTSTART:20220101T000000
END:STANDARD
END:VTIMEZONE
BEGIN:VEVENT
DTSTART;TZID=UTC:20230713T140000
DTEND;TZID=UTC:20230713T170000
DTSTAMP:20260419T132712
CREATED:20230516T132639Z
LAST-MODIFIED:20230516T132639Z
UID:5584-1689256800-1689267600@lastminutepcb.com
SUMMARY:Fandom Day
DESCRIPTION:Fandoms bring us together! Fans of games\, shows\, and music. Celebrate our Community Connections. Example fandoms include: Star War\, Pokémon\, and Minecraft. Registration Required. Call 850-522-2118 to register. Program geared for school aged children.\nThis is part of the All Together Now Summer Reading Programs.
URL:https://lastminutepcb.com/event/fandom-day/
LOCATION:Bay County Public Library\, 898 W 11th St.\, Panama City\, FL\, 32401\, United States
ATTACH;FMTTYPE=image/jpeg:https://lastminutepcb.com/wp-content/uploads/2023/05/fandom.jpg
END:VEVENT
END:VCALENDAR